BEGIN:VCALENDAR
VERSION:2.0
PRODID:-//IBEW Local 145 - ECPv6.15.20//NONSGML v1.0//EN
CALSCALE:GREGORIAN
METHOD:PUBLISH
X-WR-CALNAME:IBEW Local 145
X-ORIGINAL-URL:https://www.ibewlocal145.com
X-WR-CALDESC:Events for IBEW Local 145
REFRESH-INTERVAL;VALUE=DURATION:PT1H
X-Robots-Tag:noindex
X-PUBLISHED-TTL:PT1H
BEGIN:VTIMEZONE
TZID:America/Chicago
BEGIN:DAYLIGHT
TZOFFSETFROM:-0600
TZOFFSETTO:-0500
TZNAME:CDT
DTSTART:20200308T080000
END:DAYLIGHT
BEGIN:STANDARD
TZOFFSETFROM:-0500
TZOFFSETTO:-0600
TZNAME:CST
DTSTART:20201101T070000
END:STANDARD
BEGIN:DAYLIGHT
TZOFFSETFROM:-0600
TZOFFSETTO:-0500
TZNAME:CDT
DTSTART:20210314T080000
END:DAYLIGHT
BEGIN:STANDARD
TZOFFSETFROM:-0500
TZOFFSETTO:-0600
TZNAME:CST
DTSTART:20211107T070000
END:STANDARD
BEGIN:DAYLIGHT
TZOFFSETFROM:-0600
TZOFFSETTO:-0500
TZNAME:CDT
DTSTART:20220313T080000
END:DAYLIGHT
BEGIN:STANDARD
TZOFFSETFROM:-0500
TZOFFSETTO:-0600
TZNAME:CST
DTSTART:20221106T070000
END:STANDARD
BEGIN:DAYLIGHT
TZOFFSETFROM:-0600
TZOFFSETTO:-0500
TZNAME:CDT
DTSTART:20230312T080000
END:DAYLIGHT
BEGIN:STANDARD
TZOFFSETFROM:-0500
TZOFFSETTO:-0600
TZNAME:CST
DTSTART:20231105T070000
END:STANDARD
END:VTIMEZONE
BEGIN:VEVENT
DTSTART;TZID=America/Chicago:20220707T190000
DTEND;TZID=America/Chicago:20220707T190000
DTSTAMP:20260420T001807
CREATED:20220122T202836Z
LAST-MODIFIED:20220122T205208Z
UID:2562-1657220400-1657220400@www.ibewlocal145.com
SUMMARY:July Union Meeting
DESCRIPTION:Regular union meetings are the first Thursday of every month at 7:00 p.m.
URL:https://www.ibewlocal145.com/event/july-union-meeting/
CATEGORIES:2022,Meetings,Regular Meetings
END:VEVENT
BEGIN:VEVENT
DTSTART;TZID=America/Chicago:20220613T190000
DTEND;TZID=America/Chicago:20220613T210000
DTSTAMP:20260420T001807
CREATED:20220122T204706Z
LAST-MODIFIED:20220122T205219Z
UID:2577-1655146800-1655154000@www.ibewlocal145.com
SUMMARY:June Clinton Union Meeting
DESCRIPTION:Clinton union meetings are the second Monday of every month at 7:00 PM.
URL:https://www.ibewlocal145.com/event/june-clinton-meeting/
LOCATION:Amvets Club\, 1317 S 17th St\, Clinton\, IA\, 52732\, United States
CATEGORIES:2022,Clinton Meetings,Meetings
END:VEVENT
BEGIN:VEVENT
DTSTART;VALUE=DATE:20220605
DTEND;VALUE=DATE:20220606
DTSTAMP:20260420T001807
CREATED:20220510T160109Z
LAST-MODIFIED:20220510T162400Z
UID:2987-1654387200-1654473599@www.ibewlocal145.com
SUMMARY:IBEW #145 Clinton Golf Outing
DESCRIPTION:IBEW #145 Clinton Golf Outing\n4 Man Best Ball: $40/person or $160/team \nShotgun tee off at 9am! \nIncludes: \n\n18 holes of golf\npulled pork lunch\nchances to WIN door/playing prizes\n\nRegister by Wednesday\, May 29\, 2022! \nEmail: tottens32@gmail.com\nCall/text: (815) 631-4548
URL:https://www.ibewlocal145.com/event/ibew-145-clinton-golf-outing/
LOCATION:Valley Oaks Golf Course\, 330 Harts Mill Rd\, Clinton\, Iowa\, 52730
CATEGORIES:2022,Union Event
ORGANIZER;CN="Thomas Ottens":MAILTO:tottens32@gmail.com
END:VEVENT
BEGIN:VEVENT
DTSTART;TZID=America/Chicago:20220602T190000
DTEND;TZID=America/Chicago:20220602T190000
DTSTAMP:20260420T001807
CREATED:20220122T202814Z
LAST-MODIFIED:20220122T205237Z
UID:2561-1654196400-1654196400@www.ibewlocal145.com
SUMMARY:June Union Meeting
DESCRIPTION:Regular union meetings are the first Thursday of every month at 7:00 p.m.
URL:https://www.ibewlocal145.com/event/june-union-meeting/
CATEGORIES:2022,Meetings,Regular Meetings
END:VEVENT
BEGIN:VEVENT
DTSTART;TZID=America/Chicago:20220509T190000
DTEND;TZID=America/Chicago:20220509T210000
DTSTAMP:20260420T001807
CREATED:20220122T204624Z
LAST-MODIFIED:20220122T205248Z
UID:2576-1652122800-1652130000@www.ibewlocal145.com
SUMMARY:May Clinton Union Meeting
DESCRIPTION:Clinton union meetings are the second Monday of every month at 7:00 PM.
URL:https://www.ibewlocal145.com/event/may-clinton-meeting/
LOCATION:Amvets Club\, 1317 S 17th St\, Clinton\, IA\, 52732\, United States
CATEGORIES:2022,Clinton Meetings,Meetings
END:VEVENT
BEGIN:VEVENT
DTSTART;TZID=America/Chicago:20220505T190000
DTEND;TZID=America/Chicago:20220505T190000
DTSTAMP:20260420T001807
CREATED:20220122T202756Z
LAST-MODIFIED:20220122T205304Z
UID:2560-1651777200-1651777200@www.ibewlocal145.com
SUMMARY:May Union Meeting
DESCRIPTION:Regular union meetings are the first Thursday of every month at 7:00 p.m.
URL:https://www.ibewlocal145.com/event/may-union-meeting/
CATEGORIES:2022,Meetings,Regular Meetings
END:VEVENT
BEGIN:VEVENT
DTSTART;TZID=America/Chicago:20220411T190000
DTEND;TZID=America/Chicago:20220411T210000
DTSTAMP:20260420T001807
CREATED:20220122T204409Z
LAST-MODIFIED:20220122T211112Z
UID:2575-1649703600-1649710800@www.ibewlocal145.com
SUMMARY:April Clinton Union Meeting
DESCRIPTION:Clinton union meetings are the second Monday of every month at 7:00 PM.
URL:https://www.ibewlocal145.com/event/april-clinton-meeting/
LOCATION:Amvets Club\, 1317 S 17th St\, Clinton\, IA\, 52732\, United States
CATEGORIES:2022,Clinton Meetings,Meetings
END:VEVENT
BEGIN:VEVENT
DTSTART;TZID=America/Chicago:20220407T190000
DTEND;TZID=America/Chicago:20220407T190000
DTSTAMP:20260420T001807
CREATED:20220122T202652Z
LAST-MODIFIED:20220122T205337Z
UID:2559-1649358000-1649358000@www.ibewlocal145.com
SUMMARY:April Union Meeting
DESCRIPTION:Regular union meetings are the first Thursday of every month at 7:00 p.m.
URL:https://www.ibewlocal145.com/event/april-union-meeting/
CATEGORIES:2022,Meetings,Regular Meetings
END:VEVENT
BEGIN:VEVENT
DTSTART;TZID=America/Chicago:20220314T190000
DTEND;TZID=America/Chicago:20220314T210000
DTSTAMP:20260420T001807
CREATED:20220122T204245Z
LAST-MODIFIED:20220122T205347Z
UID:2574-1647284400-1647291600@www.ibewlocal145.com
SUMMARY:March Clinton Union Meeting
DESCRIPTION:Clinton union meetings are the second Monday of every month at 7:00 PM.
URL:https://www.ibewlocal145.com/event/march-clinton-meeting/
LOCATION:Amvets Club\, 1317 S 17th St\, Clinton\, IA\, 52732\, United States
CATEGORIES:2022,Clinton Meetings,Meetings
END:VEVENT
BEGIN:VEVENT
DTSTART;TZID=America/Chicago:20220303T190000
DTEND;TZID=America/Chicago:20220303T190000
DTSTAMP:20260420T001807
CREATED:20220122T202626Z
LAST-MODIFIED:20220122T205404Z
UID:2558-1646334000-1646334000@www.ibewlocal145.com
SUMMARY:March Union Meeting
DESCRIPTION:Regular union meetings are the first Thursday of every month at 7:00 p.m.
URL:https://www.ibewlocal145.com/event/march-union-meeting/
CATEGORIES:2022,Meetings,Regular Meetings
END:VEVENT
BEGIN:VEVENT
DTSTART;TZID=America/Chicago:20220214T190000
DTEND;TZID=America/Chicago:20220214T210000
DTSTAMP:20260420T001807
CREATED:20220122T204129Z
LAST-MODIFIED:20220122T205413Z
UID:2573-1644865200-1644872400@www.ibewlocal145.com
SUMMARY:February Clinton Union Meeting
DESCRIPTION:Clinton union meetings are the second Monday of every month at 7:00 PM.
URL:https://www.ibewlocal145.com/event/february-clinton-meeting/
LOCATION:Amvets Club\, 1317 S 17th St\, Clinton\, IA\, 52732\, United States
CATEGORIES:2022,Clinton Meetings,Meetings
END:VEVENT
BEGIN:VEVENT
DTSTART;TZID=America/Chicago:20211213T190000
DTEND;TZID=America/Chicago:20211213T210000
DTSTAMP:20260420T001807
CREATED:20210731T194226Z
LAST-MODIFIED:20220122T205449Z
UID:2072-1639422000-1639429200@www.ibewlocal145.com
SUMMARY:Clinton Union Meeting
DESCRIPTION:Clinton union meetings are the second Monday of every month at 7:00 PM.
URL:https://www.ibewlocal145.com/event/dec-13/
LOCATION:Amvets Club\, 1317 S 17th St\, Clinton\, IA\, 52732\, United States
CATEGORIES:2021,Clinton Meetings,Meetings
END:VEVENT
BEGIN:VEVENT
DTSTART;TZID=America/Chicago:20211202T190000
DTEND;TZID=America/Chicago:20211202T190000
DTSTAMP:20260420T001807
CREATED:20211102T135616Z
LAST-MODIFIED:20220122T205454Z
UID:2426-1638471600-1638471600@www.ibewlocal145.com
SUMMARY:Union Meeting
DESCRIPTION:Regular Union meetings are the first Thursday of every month at 7:00 p.m.
URL:https://www.ibewlocal145.com/event/union-meeting-2/
CATEGORIES:2021,Meetings,Regular Meetings
END:VEVENT
BEGIN:VEVENT
DTSTART;TZID=America/Chicago:20211118T080000
DTEND;TZID=America/Chicago:20211118T170000
DTSTAMP:20260420T001807
CREATED:20211118T195024Z
LAST-MODIFIED:20211118T195024Z
UID:2464-1637222400-1637254800@www.ibewlocal145.com
SUMMARY:
DESCRIPTION:Fall 2021
URL:https://www.ibewlocal145.com/event/2464/
END:VEVENT
BEGIN:VEVENT
DTSTART;TZID=America/Chicago:20211108T190000
DTEND;TZID=America/Chicago:20211108T190000
DTSTAMP:20260420T001807
CREATED:20210731T194859Z
LAST-MODIFIED:20220122T205502Z
UID:2073-1636398000-1636398000@www.ibewlocal145.com
SUMMARY:Clinton Union Meeting
DESCRIPTION:Clinton union meetings are the second Monday of every month at 7:00 PM.
URL:https://www.ibewlocal145.com/event/nov-8/
LOCATION:Amvets Club\, 1317 S 17th St\, Clinton\, IA\, 52732\, United States
CATEGORIES:2021,Clinton Meetings
END:VEVENT
BEGIN:VEVENT
DTSTART;TZID=America/Chicago:20211104T190000
DTEND;TZID=America/Chicago:20211104T190000
DTSTAMP:20260420T001807
CREATED:20211102T135305Z
LAST-MODIFIED:20220122T205510Z
UID:2419-1636052400-1636052400@www.ibewlocal145.com
SUMMARY:Union Meeting
DESCRIPTION:Regular Union meetings are the first Thursday of every month at 7:00 p.m.
URL:https://www.ibewlocal145.com/event/regular-union-meetings-2/
CATEGORIES:2021,Meetings,Regular Meetings
END:VEVENT
BEGIN:VEVENT
DTSTART;TZID=America/Chicago:20211011T190000
DTEND;TZID=America/Chicago:20211011T210000
DTSTAMP:20260420T001807
CREATED:20210731T194747Z
LAST-MODIFIED:20220122T205519Z
UID:2074-1633978800-1633986000@www.ibewlocal145.com
SUMMARY:Union Meeting
DESCRIPTION:Clinton Union meetings are the second Monday of every month at 7:00 PM.
URL:https://www.ibewlocal145.com/event/oct-11/
LOCATION:Amvets Club\, 1317 S 17th St\, Clinton\, IA\, 52732\, United States
CATEGORIES:2021,Clinton Meetings,Meetings
END:VEVENT
BEGIN:VEVENT
DTSTART;TZID=America/Chicago:20210913T190000
DTEND;TZID=America/Chicago:20210913T210000
DTSTAMP:20260420T001807
CREATED:20210913T220038Z
LAST-MODIFIED:20220122T205526Z
UID:2075-1631559600-1631566800@www.ibewlocal145.com
SUMMARY:Union Meeting
DESCRIPTION:Clinton Union meetings are the second Monday of every month at 7:00 PM.
URL:https://www.ibewlocal145.com/event/sept-13/
LOCATION:Amvets Club\, 1317 S 17th St\, Clinton\, IA\, 52732\, United States
CATEGORIES:2021,Clinton Meetings
END:VEVENT
BEGIN:VEVENT
DTSTART;TZID=America/Chicago:20210809T190000
DTEND;TZID=America/Chicago:20210809T190000
DTSTAMP:20260420T001807
CREATED:20210809T220043Z
LAST-MODIFIED:20220122T205531Z
UID:157-1628535600-1628535600@www.ibewlocal145.com
SUMMARY:Union Meeting
DESCRIPTION:Clinton Unit meetings are the second Monday of every month at 7:00 PM.
URL:https://www.ibewlocal145.com/event/union-meeting/
LOCATION:Amvets Club\, 1317 S 17th St\, Clinton\, IA\, 52732\, United States
CATEGORIES:2021,Clinton Meetings
END:VEVENT
BEGIN:VEVENT
DTSTART;TZID=America/Chicago:20210610T190000
DTEND;TZID=America/Chicago:20210610T210000
DTSTAMP:20260420T001807
CREATED:20210519T001458Z
LAST-MODIFIED:20220122T205540Z
UID:155-1623351600-1623358800@www.ibewlocal145.com
SUMMARY:Regular Union Meetings
DESCRIPTION:Regular Union meetings are the first Thursday of every month at 7:00 p.m.
URL:https://www.ibewlocal145.com/event/regular-union-meetings/
CATEGORIES:2021
END:VEVENT
END:VCALENDAR