BEGIN:VCALENDAR
VERSION:2.0
PRODID:-//IBEW Local 145 - ECPv6.15.20//NONSGML v1.0//EN
CALSCALE:GREGORIAN
METHOD:PUBLISH
X-WR-CALNAME:IBEW Local 145
X-ORIGINAL-URL:https://www.ibewlocal145.com
X-WR-CALDESC:Events for IBEW Local 145
REFRESH-INTERVAL;VALUE=DURATION:PT1H
X-Robots-Tag:noindex
X-PUBLISHED-TTL:PT1H
BEGIN:VTIMEZONE
TZID:America/Chicago
BEGIN:DAYLIGHT
TZOFFSETFROM:-0600
TZOFFSETTO:-0500
TZNAME:CDT
DTSTART:20210314T080000
END:DAYLIGHT
BEGIN:STANDARD
TZOFFSETFROM:-0500
TZOFFSETTO:-0600
TZNAME:CST
DTSTART:20211107T070000
END:STANDARD
BEGIN:DAYLIGHT
TZOFFSETFROM:-0600
TZOFFSETTO:-0500
TZNAME:CDT
DTSTART:20220313T080000
END:DAYLIGHT
BEGIN:STANDARD
TZOFFSETFROM:-0500
TZOFFSETTO:-0600
TZNAME:CST
DTSTART:20221106T070000
END:STANDARD
BEGIN:DAYLIGHT
TZOFFSETFROM:-0600
TZOFFSETTO:-0500
TZNAME:CDT
DTSTART:20230312T080000
END:DAYLIGHT
BEGIN:STANDARD
TZOFFSETFROM:-0500
TZOFFSETTO:-0600
TZNAME:CST
DTSTART:20231105T070000
END:STANDARD
BEGIN:DAYLIGHT
TZOFFSETFROM:-0600
TZOFFSETTO:-0500
TZNAME:CDT
DTSTART:20240310T080000
END:DAYLIGHT
BEGIN:STANDARD
TZOFFSETFROM:-0500
TZOFFSETTO:-0600
TZNAME:CST
DTSTART:20241103T070000
END:STANDARD
BEGIN:DAYLIGHT
TZOFFSETFROM:-0600
TZOFFSETTO:-0500
TZNAME:CDT
DTSTART:20250309T080000
END:DAYLIGHT
BEGIN:STANDARD
TZOFFSETFROM:-0500
TZOFFSETTO:-0600
TZNAME:CST
DTSTART:20251102T070000
END:STANDARD
END:VTIMEZONE
BEGIN:VEVENT
DTSTART;VALUE=DATE:20241224
DTEND;VALUE=DATE:20241225
DTSTAMP:20260420T015038
CREATED:20241202T195125Z
LAST-MODIFIED:20241202T195125Z
UID:7436-1734998400-1735084799@www.ibewlocal145.com
SUMMARY:Office Closes at Noon!
DESCRIPTION:
URL:https://www.ibewlocal145.com/event/office-closes-at-noon/
LOCATION:IA
END:VEVENT
BEGIN:VEVENT
DTSTART;VALUE=DATE:20241214
DTEND;VALUE=DATE:20241215
DTSTAMP:20260420T015038
CREATED:20240923T143543Z
LAST-MODIFIED:20241025T202604Z
UID:7094-1734134400-1734220799@www.ibewlocal145.com
SUMMARY:Breakfast with Santa
DESCRIPTION:Local #145 members and family are invited to Breakfast with Santa. Enjoy pancakes\, crafts plus have your picture taken with Santa! Click on the link to RSVP. RSVP is required to ensure an age-appropriate gift for all kids attending. \nhttps://form.jotform.com/232955817021153
URL:https://www.ibewlocal145.com/event/breakfast-with-santa/
LOCATION:IA
END:VEVENT
BEGIN:VEVENT
DTSTART;TZID=America/Chicago:20241209T180000
DTEND;TZID=America/Chicago:20241209T190000
DTSTAMP:20260420T015038
CREATED:20240724T175750Z
LAST-MODIFIED:20240724T175750Z
UID:6720-1733767200-1733770800@www.ibewlocal145.com
SUMMARY:Clinton Unit II Meeting
DESCRIPTION:Clinton Unit II Meeting
URL:https://www.ibewlocal145.com/event/clinton-unit-ii-meeting-5/
LOCATION:Amvets Club\, 1317 S 17th St\, Clinton\, IA\, 52732\, United States
END:VEVENT
BEGIN:VEVENT
DTSTART;TZID=America/Chicago:20241206T113000
DTEND;TZID=America/Chicago:20241206T140000
DTSTAMP:20260420T015038
CREATED:20241025T201938Z
LAST-MODIFIED:20241105T150056Z
UID:7298-1733484600-1733493600@www.ibewlocal145.com
SUMMARY:Retiree Luncheon
DESCRIPTION:All Retired Local #145 members and a guest are invited to join us for lunch! \nRetiree Luncheon
URL:https://www.ibewlocal145.com/event/retiree-luncheon/
LOCATION:IBEW Local #145 Union Hall\, 1700 52nd Ave Ste A\, Moline\, IL\, 61265\, United States
END:VEVENT
BEGIN:VEVENT
DTSTART;TZID=America/Chicago:20241205T180000
DTEND;TZID=America/Chicago:20241205T190000
DTSTAMP:20260420T015038
CREATED:20240724T175111Z
LAST-MODIFIED:20240724T175111Z
UID:6710-1733421600-1733425200@www.ibewlocal145.com
SUMMARY:Regular Union Meeting
DESCRIPTION:Regular Union Meeting
URL:https://www.ibewlocal145.com/event/regular-union-meeting-5/
LOCATION:IBEW Local #145 Union Hall\, 1700 52nd Ave Ste A\, Moline\, IL\, 61265\, United States
END:VEVENT
BEGIN:VEVENT
DTSTART;TZID=America/Chicago:20241203T170000
DTEND;TZID=America/Chicago:20241203T180000
DTSTAMP:20260420T015038
CREATED:20241203T134624Z
LAST-MODIFIED:20241203T134738Z
UID:7501-1733245200-1733248800@www.ibewlocal145.com
SUMMARY:Outside Contract Vote Special Meeting
DESCRIPTION:This meeting is for Outside members of Local #145 to discuss and vote for their recently negotiated contract. A current dues receipt must be presented to attend and vote.
URL:https://www.ibewlocal145.com/event/outside-contract-vote-special-meeting/
LOCATION:IBEW Local #145 Union Hall\, 1700 52nd Ave Ste A\, Moline\, IL\, 61265\, United States
END:VEVENT
BEGIN:VEVENT
DTSTART;TZID=America/Chicago:20241123T083000
DTEND;TZID=America/Chicago:20241123T113000
DTSTAMP:20260420T015038
CREATED:20241101T201604Z
LAST-MODIFIED:20241107T141232Z
UID:7322-1732350600-1732361400@www.ibewlocal145.com
SUMMARY:Festival of Trees Parade
DESCRIPTION:Come be apart of the Quad City Arts’ Festival of Trees parade! Staging area is located near the bridge on East 2nd and 3rd Street in Davenport IA. Please plan to arrive for line up around 8:30am since the parade kick’s off at 10am. Hope to see you all there!
URL:https://www.ibewlocal145.com/event/festival-of-trees-parade/
LOCATION:IA
END:VEVENT
BEGIN:VEVENT
DTSTART;TZID=America/Chicago:20241119T110000
DTEND;TZID=America/Chicago:20241119T130000
DTSTAMP:20260420T015038
CREATED:20241002T155833Z
LAST-MODIFIED:20241002T155833Z
UID:7147-1732014000-1732021200@www.ibewlocal145.com
SUMMARY:Retiree Social
DESCRIPTION:All Retirees welcome to come play cards or sit and visit every 3rd Tuesday at 11am at the Union Hall!
URL:https://www.ibewlocal145.com/event/retiree-social-2/
LOCATION:IA
END:VEVENT
BEGIN:VEVENT
DTSTART;TZID=America/Chicago:20241118T180000
DTEND;TZID=America/Chicago:20241118T190000
DTSTAMP:20260420T015038
CREATED:20240724T175712Z
LAST-MODIFIED:20241015T133139Z
UID:6718-1731952800-1731956400@www.ibewlocal145.com
SUMMARY:Clinton Unit II Meeting
DESCRIPTION:Clinton Unit II Meeting
URL:https://www.ibewlocal145.com/event/clinton-unit-ii-meeting-4/
LOCATION:Amvets Club\, 1317 S 17th St\, Clinton\, IA\, 52732\, United States
END:VEVENT
BEGIN:VEVENT
DTSTART;TZID=America/Chicago:20241107T180000
DTEND;TZID=America/Chicago:20241107T190000
DTSTAMP:20260420T015038
CREATED:20240724T175039Z
LAST-MODIFIED:20240724T175039Z
UID:6708-1731002400-1731006000@www.ibewlocal145.com
SUMMARY:Regular Union Meeting
DESCRIPTION:Regular Union Meeting
URL:https://www.ibewlocal145.com/event/regular-union-meeting-4/
LOCATION:IBEW Local #145 Union Hall\, 1700 52nd Ave Ste A\, Moline\, IL\, 61265\, United States
END:VEVENT
BEGIN:VEVENT
DTSTART;VALUE=DATE:20241103
DTEND;VALUE=DATE:20241111
DTSTAMP:20260420T015038
CREATED:20241002T155902Z
LAST-MODIFIED:20241002T160334Z
UID:7149-1730592000-1731283199@www.ibewlocal145.com
SUMMARY:ALBAT Lineman Apprenticeship Opens!!!!
DESCRIPTION:Anyone interested in applying for Local #145’s ALBAT Lineman Apprenticeship\, now is the time to apply! Applications will be open 11/3/2024 to 11/10/2024 and are only open from once a year\, so get your applications submitted before it’s too late!
URL:https://www.ibewlocal145.com/event/retiree-social-3/
LOCATION:IA
END:VEVENT
BEGIN:VEVENT
DTSTART;TZID=America/Chicago:20241015T110000
DTEND;TZID=America/Chicago:20241015T130000
DTSTAMP:20260420T015038
CREATED:20241002T155759Z
LAST-MODIFIED:20241002T155759Z
UID:7145-1728990000-1728997200@www.ibewlocal145.com
SUMMARY:Retiree Social
DESCRIPTION:All Retirees welcome to come play cards or sit and visit every 3rd Tuesday at 11am at the Union Hall!
URL:https://www.ibewlocal145.com/event/retiree-social/
LOCATION:IA
END:VEVENT
BEGIN:VEVENT
DTSTART;TZID=America/Chicago:20241014T180000
DTEND;TZID=America/Chicago:20241014T190000
DTSTAMP:20260420T015038
CREATED:20240724T175634Z
LAST-MODIFIED:20240724T175634Z
UID:6716-1728928800-1728932400@www.ibewlocal145.com
SUMMARY:Clinton Unit II Meeting
DESCRIPTION:Clinton Unit II Meeting
URL:https://www.ibewlocal145.com/event/clinton-unit-ii-meeting-3/
LOCATION:Amvets Club\, 1317 S 17th St\, Clinton\, IA\, 52732\, United States
END:VEVENT
BEGIN:VEVENT
DTSTART;TZID=America/Chicago:20241005T090000
DTEND;TZID=America/Chicago:20241005T160000
DTSTAMP:20260420T015038
CREATED:20240718T183245Z
LAST-MODIFIED:20240718T183618Z
UID:6662-1728118800-1728144000@www.ibewlocal145.com
SUMMARY:19th Annual Local #145 Golf Outing
DESCRIPTION:Golf Tournament Flyer
URL:https://www.ibewlocal145.com/event/19th-annual-local-145-golf-outing/
LOCATION:Indian Bluff Golf Course\, 6200 78th Ave\, Milan\, IL\, 61264\, United States
END:VEVENT
BEGIN:VEVENT
DTSTART;TZID=America/Chicago:20241003T180000
DTEND;TZID=America/Chicago:20241003T190000
DTSTAMP:20260420T015038
CREATED:20240724T174955Z
LAST-MODIFIED:20240724T174955Z
UID:6706-1727978400-1727982000@www.ibewlocal145.com
SUMMARY:Regular Union Meeting
DESCRIPTION:Regular Union Meeting
URL:https://www.ibewlocal145.com/event/regular-union-meeting-3/
LOCATION:IBEW Local #145 Union Hall\, 1700 52nd Ave Ste A\, Moline\, IL\, 61265\, United States
END:VEVENT
BEGIN:VEVENT
DTSTART;VALUE=DATE:20241001
DTEND;VALUE=DATE:20241002
DTSTAMP:20260420T015038
CREATED:20240724T180539Z
LAST-MODIFIED:20240724T181714Z
UID:6723-1727740800-1727827199@www.ibewlocal145.com
SUMMARY:4th Quarter Union Dues are Due!!!!! $136.50
DESCRIPTION:4th Quarter Union Dues are Due!!!!! Pay online under Member Login or call (309) 736-4239 to make your payment and avoid a late fee!!!
URL:https://www.ibewlocal145.com/event/4th-quarter-union-dues-are-due-136-50/
LOCATION:IBEW Local #145 Union Hall\, 1700 52nd Ave Ste A\, Moline\, IL\, 61265\, United States
END:VEVENT
BEGIN:VEVENT
DTSTART;TZID=America/Chicago:20240909T180000
DTEND;TZID=America/Chicago:20240909T190000
DTSTAMP:20260420T015038
CREATED:20240724T175503Z
LAST-MODIFIED:20240724T175503Z
UID:6713-1725904800-1725908400@www.ibewlocal145.com
SUMMARY:Clinton Unit II Meeting
DESCRIPTION:Clinton Unit II Meeting
URL:https://www.ibewlocal145.com/event/clinton-unit-ii-meeting-2/
LOCATION:Amvets Club\, 1317 S 17th St\, Clinton\, IA\, 52732\, United States
END:VEVENT
BEGIN:VEVENT
DTSTART;TZID=America/Chicago:20240905T180000
DTEND;TZID=America/Chicago:20240905T190000
DTSTAMP:20260420T015038
CREATED:20240724T174921Z
LAST-MODIFIED:20240724T174921Z
UID:6704-1725559200-1725562800@www.ibewlocal145.com
SUMMARY:Regular Union Meeting
DESCRIPTION:Regular Union Meeting
URL:https://www.ibewlocal145.com/event/regular-union-meeting-2/
LOCATION:IBEW Local #145 Union Hall\, 1700 52nd Ave Ste A\, Moline\, IL\, 61265\, United States
END:VEVENT
BEGIN:VEVENT
DTSTART;TZID=America/Chicago:20240824T113000
DTEND;TZID=America/Chicago:20240824T160000
DTSTAMP:20260420T015038
CREATED:20240718T182347Z
LAST-MODIFIED:20240718T183803Z
UID:6656-1724499000-1724515200@www.ibewlocal145.com
SUMMARY:2024 Union Picnic
DESCRIPTION:Please come join us for the Union Picnic!!! \nPicnic Flyer 2024
URL:https://www.ibewlocal145.com/event/2024-union-picnic/
LOCATION:Colona Scott Family Park\, 5775 Poppy Garden Rd\, Colona\, IL\, 61241\, United States
END:VEVENT
BEGIN:VEVENT
DTSTART;TZID=America/Chicago:20240812T180000
DTEND;TZID=America/Chicago:20240812T190000
DTSTAMP:20260420T015038
CREATED:20240724T174733Z
LAST-MODIFIED:20240724T174733Z
UID:6701-1723485600-1723489200@www.ibewlocal145.com
SUMMARY:Clinton Unit II Meeting
DESCRIPTION:Clinton Unit II Meeting
URL:https://www.ibewlocal145.com/event/clinton-unit-ii-meeting/
LOCATION:Amvets Club\, 1317 S 17th St\, Clinton\, IA\, 52732\, United States
END:VEVENT
BEGIN:VEVENT
DTSTART;TZID=America/Chicago:20240801T180000
DTEND;TZID=America/Chicago:20240801T190000
DTSTAMP:20260420T015038
CREATED:20240724T162742Z
LAST-MODIFIED:20240724T174410Z
UID:6696-1722535200-1722538800@www.ibewlocal145.com
SUMMARY:Regular Union Meeting
DESCRIPTION:Regular Union Meeting
URL:https://www.ibewlocal145.com/event/regular-union-meeting/
LOCATION:IBEW Local #145 Union Hall\, 1700 52nd Ave Ste A\, Moline\, IL\, 61265\, United States
END:VEVENT
BEGIN:VEVENT
DTSTART;TZID=America/Chicago:20231209T080000
DTEND;TZID=America/Chicago:20231209T120000
DTSTAMP:20260420T015038
CREATED:20231121T145438Z
LAST-MODIFIED:20231121T145438Z
UID:5563-1702108800-1702123200@www.ibewlocal145.com
SUMMARY:CHRISTMAS WITH SANTA
DESCRIPTION:8am – NOON on December 9th
URL:https://www.ibewlocal145.com/event/christmas-with-santa/
LOCATION:IA
END:VEVENT
BEGIN:VEVENT
DTSTART;TZID=America/Chicago:20221103T190000
DTEND;TZID=America/Chicago:20221103T190000
DTSTAMP:20260420T015038
CREATED:20220122T210002Z
LAST-MODIFIED:20220122T210002Z
UID:2604-1667502000-1667502000@www.ibewlocal145.com
SUMMARY:November Union Meeting
DESCRIPTION:Regular union meetings are the first Thursday of every month at 7:00 p.m.
URL:https://www.ibewlocal145.com/event/november-union-meeting/
LOCATION:IA
CATEGORIES:2022,Meetings,Regular Meetings
END:VEVENT
BEGIN:VEVENT
DTSTART;TZID=America/Chicago:20221010T190000
DTEND;TZID=America/Chicago:20221010T210000
DTSTAMP:20260420T015038
CREATED:20220122T210344Z
LAST-MODIFIED:20220122T210531Z
UID:2607-1665428400-1665435600@www.ibewlocal145.com
SUMMARY:October Clinton Union Meeting
DESCRIPTION:Clinton union meetings are the second Monday of every month at 7:00 PM.
URL:https://www.ibewlocal145.com/event/october-clinton-meeting/
LOCATION:Amvets Club\, 1317 S 17th St\, Clinton\, IA\, 52732\, United States
CATEGORIES:2022,Clinton Meetings,Meetings
END:VEVENT
BEGIN:VEVENT
DTSTART;TZID=America/Chicago:20221006T190000
DTEND;TZID=America/Chicago:20221006T190000
DTSTAMP:20260420T015038
CREATED:20220122T205846Z
LAST-MODIFIED:20220122T205902Z
UID:2603-1665082800-1665082800@www.ibewlocal145.com
SUMMARY:October Union Meeting
DESCRIPTION:Regular union meetings are the first Thursday of every month at 7:00 p.m.
URL:https://www.ibewlocal145.com/event/october-union-meeting/
LOCATION:IA
CATEGORIES:2022,Meetings,Regular Meetings
END:VEVENT
BEGIN:VEVENT
DTSTART;TZID=America/Chicago:20220912T190000
DTEND;TZID=America/Chicago:20220912T210000
DTSTAMP:20260420T015038
CREATED:20220122T210320Z
LAST-MODIFIED:20220122T210825Z
UID:2606-1663009200-1663016400@www.ibewlocal145.com
SUMMARY:September Clinton Union Meeting
DESCRIPTION:Clinton union meetings are the second Monday of every month at 7:00 PM.
URL:https://www.ibewlocal145.com/event/september-clinton-meeting/
LOCATION:Amvets Club\, 1317 S 17th St\, Clinton\, IA\, 52732\, United States
CATEGORIES:2022,Clinton Meetings,Meetings
END:VEVENT
BEGIN:VEVENT
DTSTART;TZID=America/Chicago:20220901T190000
DTEND;TZID=America/Chicago:20220901T190000
DTSTAMP:20260420T015038
CREATED:20220122T205818Z
LAST-MODIFIED:20220122T205818Z
UID:2602-1662058800-1662058800@www.ibewlocal145.com
SUMMARY:September Union Meeting
DESCRIPTION:Regular union meetings are the first Thursday of every month at 7:00 p.m.
URL:https://www.ibewlocal145.com/event/september-union-meeting/
LOCATION:IA
CATEGORIES:2022,Meetings,Regular Meetings
END:VEVENT
BEGIN:VEVENT
DTSTART;TZID=America/Chicago:20220808T190000
DTEND;TZID=America/Chicago:20220808T210000
DTSTAMP:20260420T015038
CREATED:20220122T204819Z
LAST-MODIFIED:20220122T205113Z
UID:2579-1659985200-1659992400@www.ibewlocal145.com
SUMMARY:August Clinton Union Meeting
DESCRIPTION:Clinton union meetings are the second Monday of every month at 7:00 PM.
URL:https://www.ibewlocal145.com/event/august-clinton-meeting/
LOCATION:Amvets Club\, 1317 S 17th St\, Clinton\, IA\, 52732\, United States
CATEGORIES:2022,Clinton Meetings,Meetings
END:VEVENT
BEGIN:VEVENT
DTSTART;TZID=America/Chicago:20220804T190000
DTEND;TZID=America/Chicago:20220804T190000
DTSTAMP:20260420T015038
CREATED:20220122T202859Z
LAST-MODIFIED:20220122T205132Z
UID:2563-1659639600-1659639600@www.ibewlocal145.com
SUMMARY:August Union Meeting
DESCRIPTION:Regular union meetings are the first Thursday of every month at 7:00 p.m.
URL:https://www.ibewlocal145.com/event/august-union-meeting/
LOCATION:IA
CATEGORIES:2022,Meetings,Regular Meetings
END:VEVENT
BEGIN:VEVENT
DTSTART;TZID=America/Chicago:20220711T190000
DTEND;TZID=America/Chicago:20220711T210000
DTSTAMP:20260420T015038
CREATED:20220122T204731Z
LAST-MODIFIED:20220122T205150Z
UID:2578-1657566000-1657573200@www.ibewlocal145.com
SUMMARY:July Clinton Union Meeting
DESCRIPTION:Clinton union meetings are the second Monday of every month at 7:00 PM.
URL:https://www.ibewlocal145.com/event/july-clinton-meeting/
LOCATION:Amvets Club\, 1317 S 17th St\, Clinton\, IA\, 52732\, United States
CATEGORIES:2022,Clinton Meetings,Meetings
END:VEVENT
END:VCALENDAR