BEGIN:VCALENDAR
VERSION:2.0
PRODID:-//IBEW Local 145 - ECPv6.15.20//NONSGML v1.0//EN
CALSCALE:GREGORIAN
METHOD:PUBLISH
X-WR-CALNAME:IBEW Local 145
X-ORIGINAL-URL:https://www.ibewlocal145.com
X-WR-CALDESC:Events for IBEW Local 145
REFRESH-INTERVAL;VALUE=DURATION:PT1H
X-Robots-Tag:noindex
X-PUBLISHED-TTL:PT1H
BEGIN:VTIMEZONE
TZID:America/Chicago
BEGIN:DAYLIGHT
TZOFFSETFROM:-0600
TZOFFSETTO:-0500
TZNAME:CDT
DTSTART:20230312T080000
END:DAYLIGHT
BEGIN:STANDARD
TZOFFSETFROM:-0500
TZOFFSETTO:-0600
TZNAME:CST
DTSTART:20231105T070000
END:STANDARD
BEGIN:DAYLIGHT
TZOFFSETFROM:-0600
TZOFFSETTO:-0500
TZNAME:CDT
DTSTART:20240310T080000
END:DAYLIGHT
BEGIN:STANDARD
TZOFFSETFROM:-0500
TZOFFSETTO:-0600
TZNAME:CST
DTSTART:20241103T070000
END:STANDARD
BEGIN:DAYLIGHT
TZOFFSETFROM:-0600
TZOFFSETTO:-0500
TZNAME:CDT
DTSTART:20250309T080000
END:DAYLIGHT
BEGIN:STANDARD
TZOFFSETFROM:-0500
TZOFFSETTO:-0600
TZNAME:CST
DTSTART:20251102T070000
END:STANDARD
BEGIN:DAYLIGHT
TZOFFSETFROM:-0600
TZOFFSETTO:-0500
TZNAME:CDT
DTSTART:20260308T080000
END:DAYLIGHT
BEGIN:STANDARD
TZOFFSETFROM:-0500
TZOFFSETTO:-0600
TZNAME:CST
DTSTART:20261101T070000
END:STANDARD
END:VTIMEZONE
BEGIN:VEVENT
DTSTART;TZID=America/Chicago:20250811T180000
DTEND;TZID=America/Chicago:20250811T190000
DTSTAMP:20260419T164646
CREATED:20241202T201625Z
LAST-MODIFIED:20241202T201625Z
UID:7482-1754935200-1754938800@www.ibewlocal145.com
SUMMARY:Clinton Unit II Meeting
DESCRIPTION:Clinton Unit II Meeting
URL:https://www.ibewlocal145.com/event/clinton-unit-ii-meeting-13/
LOCATION:Amvets Club\, 1317 S 17th St\, Clinton\, IA\, 52732\, United States
END:VEVENT
BEGIN:VEVENT
DTSTART;TZID=America/Chicago:20250807T180000
DTEND;TZID=America/Chicago:20250807T190000
DTSTAMP:20260419T164646
CREATED:20241202T200219Z
LAST-MODIFIED:20241202T200219Z
UID:7458-1754589600-1754593200@www.ibewlocal145.com
SUMMARY:Regular Union Meeting
DESCRIPTION:Regular Union Meeting
URL:https://www.ibewlocal145.com/event/regular-union-meeting-13/
LOCATION:IBEW Local #145 Union Hall\, 1700 52nd Ave Ste A\, Moline\, IL\, 61265\, United States
END:VEVENT
BEGIN:VEVENT
DTSTART;TZID=America/Chicago:20250714T180000
DTEND;TZID=America/Chicago:20250714T190000
DTSTAMP:20260419T164646
CREATED:20241202T201554Z
LAST-MODIFIED:20241202T201554Z
UID:7480-1752516000-1752519600@www.ibewlocal145.com
SUMMARY:Clinton Unit II Meeting
DESCRIPTION:Clinton Unit II Meeting
URL:https://www.ibewlocal145.com/event/clinton-unit-ii-meeting-12/
LOCATION:Amvets Club\, 1317 S 17th St\, Clinton\, IA\, 52732\, United States
END:VEVENT
BEGIN:VEVENT
DTSTART;TZID=America/Chicago:20250703T180000
DTEND;TZID=America/Chicago:20250703T190000
DTSTAMP:20260419T164646
CREATED:20241202T200140Z
LAST-MODIFIED:20241202T200140Z
UID:7456-1751565600-1751569200@www.ibewlocal145.com
SUMMARY:Regular Union Meeting
DESCRIPTION:Regular Union Meeting
URL:https://www.ibewlocal145.com/event/regular-union-meeting-12/
LOCATION:IBEW Local #145 Union Hall\, 1700 52nd Ave Ste A\, Moline\, IL\, 61265\, United States
END:VEVENT
BEGIN:VEVENT
DTSTART;VALUE=DATE:20250701
DTEND;VALUE=DATE:20250702
DTSTAMP:20260419T164646
CREATED:20240724T181949Z
LAST-MODIFIED:20240724T181949Z
UID:6731-1751328000-1751414399@www.ibewlocal145.com
SUMMARY:3rd Quarter Union Dues are Due!!!!! $145.50
DESCRIPTION:3rd Quarter Union Dues are Due!!!!! Pay online under Member Login or call (309) 736-4239 to make your payment and avoid a late fee!!!
URL:https://www.ibewlocal145.com/event/3rd-quarter-union-dues-are-due-145-50/
LOCATION:IL
END:VEVENT
BEGIN:VEVENT
DTSTART;TZID=America/Chicago:20250609T080000
DTEND;TZID=America/Chicago:20250609T170000
DTSTAMP:20260419T164646
CREATED:20241202T201511Z
LAST-MODIFIED:20241202T201511Z
UID:7478-1749456000-1749488400@www.ibewlocal145.com
SUMMARY:Clinton Unit II Meeting
DESCRIPTION:Clinton Unit II Meeting
URL:https://www.ibewlocal145.com/event/clinton-unit-ii-meeting-11/
LOCATION:Amvets Club\, 1317 S 17th St\, Clinton\, IA\, 52732\, United States
END:VEVENT
BEGIN:VEVENT
DTSTART;TZID=America/Chicago:20250605T180000
DTEND;TZID=America/Chicago:20250605T190000
DTSTAMP:20260419T164646
CREATED:20241202T200045Z
LAST-MODIFIED:20241202T200045Z
UID:7454-1749146400-1749150000@www.ibewlocal145.com
SUMMARY:Regular Union Meeting
DESCRIPTION:Regular Union Meeting
URL:https://www.ibewlocal145.com/event/regular-union-meeting-11/
LOCATION:IBEW Local #145 Union Hall\, 1700 52nd Ave Ste A\, Moline\, IL\, 61265\, United States
END:VEVENT
BEGIN:VEVENT
DTSTART;TZID=America/Chicago:20250512T180000
DTEND;TZID=America/Chicago:20250512T190000
DTSTAMP:20260419T164646
CREATED:20241202T201438Z
LAST-MODIFIED:20241202T201438Z
UID:7476-1747072800-1747076400@www.ibewlocal145.com
SUMMARY:Clinton Unit II Meeting
DESCRIPTION:Clinton Unit II Meeting
URL:https://www.ibewlocal145.com/event/clinton-unit-ii-meeting-10/
LOCATION:Amvets Club\, 1317 S 17th St\, Clinton\, IA\, 52732\, United States
END:VEVENT
BEGIN:VEVENT
DTSTART;TZID=America/Chicago:20250501T180000
DTEND;TZID=America/Chicago:20250501T190000
DTSTAMP:20260419T164646
CREATED:20241202T200002Z
LAST-MODIFIED:20241202T200002Z
UID:7452-1746122400-1746126000@www.ibewlocal145.com
SUMMARY:Regular Union Meeting
DESCRIPTION:Regular Union Meeting
URL:https://www.ibewlocal145.com/event/regular-union-meeting-10/
LOCATION:IBEW Local #145 Union Hall\, 1700 52nd Ave Ste A\, Moline\, IL\, 61265\, United States
END:VEVENT
BEGIN:VEVENT
DTSTART;TZID=America/Chicago:20250414T180000
DTEND;TZID=America/Chicago:20250414T190000
DTSTAMP:20260419T164646
CREATED:20241202T201359Z
LAST-MODIFIED:20241202T201359Z
UID:7474-1744653600-1744657200@www.ibewlocal145.com
SUMMARY:Clinton Unit II Meeting
DESCRIPTION:Clinton Unit II Meeting
URL:https://www.ibewlocal145.com/event/clinton-unit-ii-meeting-9/
LOCATION:Amvets Club\, 1317 S 17th St\, Clinton\, IA\, 52732\, United States
END:VEVENT
BEGIN:VEVENT
DTSTART;TZID=America/Chicago:20250403T180000
DTEND;TZID=America/Chicago:20250403T190000
DTSTAMP:20260419T164646
CREATED:20241202T195916Z
LAST-MODIFIED:20241202T195916Z
UID:7450-1743703200-1743706800@www.ibewlocal145.com
SUMMARY:Regular Union Meeting
DESCRIPTION:Regular Union Meeting
URL:https://www.ibewlocal145.com/event/regular-union-meeting-9/
LOCATION:IBEW Local #145 Union Hall\, 1700 52nd Ave Ste A\, Moline\, IL\, 61265\, United States
END:VEVENT
BEGIN:VEVENT
DTSTART;VALUE=DATE:20250401
DTEND;VALUE=DATE:20250402
DTSTAMP:20260419T164646
CREATED:20240724T181853Z
LAST-MODIFIED:20240724T181853Z
UID:6729-1743465600-1743551999@www.ibewlocal145.com
SUMMARY:2nd Quarter Union Dues are Due!!!!! $142.50
DESCRIPTION:2nd Quarter Union Dues are Due!!!!! Pay online under Member Login or call (309) 736-4239 to make your payment and avoid a late fee!!!
URL:https://www.ibewlocal145.com/event/2nd-quarter-union-dues-are-due-142-50/
LOCATION:IL
END:VEVENT
BEGIN:VEVENT
DTSTART;TZID=America/Chicago:20250310T180000
DTEND;TZID=America/Chicago:20250310T190000
DTSTAMP:20260419T164646
CREATED:20241202T201312Z
LAST-MODIFIED:20241202T201312Z
UID:7472-1741629600-1741633200@www.ibewlocal145.com
SUMMARY:Clinton Unit II Meeting
DESCRIPTION:Clinton Unit II Meeting
URL:https://www.ibewlocal145.com/event/clinton-unit-ii-meeting-8/
LOCATION:Amvets Club\, 1317 S 17th St\, Clinton\, IA\, 52732\, United States
END:VEVENT
BEGIN:VEVENT
DTSTART;TZID=America/Chicago:20250306T180000
DTEND;TZID=America/Chicago:20250306T190000
DTSTAMP:20260419T164646
CREATED:20241202T195806Z
LAST-MODIFIED:20241202T202420Z
UID:7448-1741284000-1741287600@www.ibewlocal145.com
SUMMARY:Regular Union Meeting - Pack the Hall!!!
DESCRIPTION:Regular Union Meeting – Pack the Hall!! Please join us for pizza and help welcome all Apprentices that will be obligated into membership!
URL:https://www.ibewlocal145.com/event/regular-union-meeting-8/
LOCATION:IBEW Local #145 Union Hall\, 1700 52nd Ave Ste A\, Moline\, IL\, 61265\, United States
END:VEVENT
BEGIN:VEVENT
DTSTART;TZID=America/Chicago:20250210T180000
DTEND;TZID=America/Chicago:20250210T190000
DTSTAMP:20260419T164646
CREATED:20241202T201212Z
LAST-MODIFIED:20241202T201212Z
UID:7470-1739210400-1739214000@www.ibewlocal145.com
SUMMARY:Clinton Unit II Meeting
DESCRIPTION:Clinton Unit II Meeting
URL:https://www.ibewlocal145.com/event/clinton-unit-ii-meeting-7/
LOCATION:Amvets Club\, 1317 S 17th St\, Clinton\, IA\, 52732\, United States
END:VEVENT
BEGIN:VEVENT
DTSTART;TZID=America/Chicago:20250206T180000
DTEND;TZID=America/Chicago:20250206T190000
DTSTAMP:20260419T164646
CREATED:20241202T195720Z
LAST-MODIFIED:20241202T195720Z
UID:7446-1738864800-1738868400@www.ibewlocal145.com
SUMMARY:Regular Union Meeting
DESCRIPTION:Regular Union Meeting
URL:https://www.ibewlocal145.com/event/regular-union-meeting-7/
LOCATION:IBEW Local #145 Union Hall\, 1700 52nd Ave Ste A\, Moline\, IL\, 61265\, United States
END:VEVENT
BEGIN:VEVENT
DTSTART;TZID=America/Chicago:20250113T180000
DTEND;TZID=America/Chicago:20250113T190000
DTSTAMP:20260419T164646
CREATED:20241202T201127Z
LAST-MODIFIED:20241202T201127Z
UID:7468-1736791200-1736794800@www.ibewlocal145.com
SUMMARY:Clinton Unit II Meeting
DESCRIPTION:Clinton Unit II Meeting
URL:https://www.ibewlocal145.com/event/clinton-unit-ii-meeting-6/
LOCATION:Amvets Club\, 1317 S 17th St\, Clinton\, IA\, 52732\, United States
END:VEVENT
BEGIN:VEVENT
DTSTART;TZID=America/Chicago:20250102T180000
DTEND;TZID=America/Chicago:20250102T190000
DTSTAMP:20260419T164646
CREATED:20241202T195445Z
LAST-MODIFIED:20241202T195534Z
UID:7441-1735840800-1735844400@www.ibewlocal145.com
SUMMARY:Regular Union Meeting
DESCRIPTION:Regular Union Meeting
URL:https://www.ibewlocal145.com/event/regular-union-meeting-6/
LOCATION:IBEW Local #145 Union Hall\, 1700 52nd Ave Ste A\, Moline\, IL\, 61265\, United States
END:VEVENT
BEGIN:VEVENT
DTSTART;VALUE=DATE:20250101
DTEND;VALUE=DATE:20250102
DTSTAMP:20260419T164646
CREATED:20240724T181617Z
LAST-MODIFIED:20240724T181617Z
UID:6725-1735689600-1735775999@www.ibewlocal145.com
SUMMARY:1st Quarter Union Dues are Due!!!!! $142.50
DESCRIPTION:1st Quarter Union Dues are Due!!!!! Pay online under Member Login or call (309) 736-4239 to make your payment and avoid a late fee!!!
URL:https://www.ibewlocal145.com/event/1st-quarter-union-dues-are-due-142-50/
LOCATION:IL
END:VEVENT
BEGIN:VEVENT
DTSTART;VALUE=DATE:20241231
DTEND;VALUE=DATE:20250101
DTSTAMP:20260419T164646
CREATED:20241202T195213Z
LAST-MODIFIED:20241202T195213Z
UID:7438-1735603200-1735689599@www.ibewlocal145.com
SUMMARY:Office Closes at Noon!
DESCRIPTION:
URL:https://www.ibewlocal145.com/event/office-closes-at-noon-2/
LOCATION:IL
END:VEVENT
BEGIN:VEVENT
DTSTART;VALUE=DATE:20241224
DTEND;VALUE=DATE:20241225
DTSTAMP:20260419T164646
CREATED:20241202T195125Z
LAST-MODIFIED:20241202T195125Z
UID:7436-1734998400-1735084799@www.ibewlocal145.com
SUMMARY:Office Closes at Noon!
DESCRIPTION:
URL:https://www.ibewlocal145.com/event/office-closes-at-noon/
LOCATION:IL
END:VEVENT
BEGIN:VEVENT
DTSTART;VALUE=DATE:20241214
DTEND;VALUE=DATE:20241215
DTSTAMP:20260419T164646
CREATED:20240923T143543Z
LAST-MODIFIED:20241025T202604Z
UID:7094-1734134400-1734220799@www.ibewlocal145.com
SUMMARY:Breakfast with Santa
DESCRIPTION:Local #145 members and family are invited to Breakfast with Santa. Enjoy pancakes\, crafts plus have your picture taken with Santa! Click on the link to RSVP. RSVP is required to ensure an age-appropriate gift for all kids attending. \nhttps://form.jotform.com/232955817021153
URL:https://www.ibewlocal145.com/event/breakfast-with-santa/
LOCATION:IL
END:VEVENT
BEGIN:VEVENT
DTSTART;TZID=America/Chicago:20241209T180000
DTEND;TZID=America/Chicago:20241209T190000
DTSTAMP:20260419T164646
CREATED:20240724T175750Z
LAST-MODIFIED:20240724T175750Z
UID:6720-1733767200-1733770800@www.ibewlocal145.com
SUMMARY:Clinton Unit II Meeting
DESCRIPTION:Clinton Unit II Meeting
URL:https://www.ibewlocal145.com/event/clinton-unit-ii-meeting-5/
LOCATION:Amvets Club\, 1317 S 17th St\, Clinton\, IA\, 52732\, United States
END:VEVENT
BEGIN:VEVENT
DTSTART;TZID=America/Chicago:20241206T113000
DTEND;TZID=America/Chicago:20241206T140000
DTSTAMP:20260419T164646
CREATED:20241025T201938Z
LAST-MODIFIED:20241105T150056Z
UID:7298-1733484600-1733493600@www.ibewlocal145.com
SUMMARY:Retiree Luncheon
DESCRIPTION:All Retired Local #145 members and a guest are invited to join us for lunch! \nRetiree Luncheon
URL:https://www.ibewlocal145.com/event/retiree-luncheon/
LOCATION:IBEW Local #145 Union Hall\, 1700 52nd Ave Ste A\, Moline\, IL\, 61265\, United States
END:VEVENT
BEGIN:VEVENT
DTSTART;TZID=America/Chicago:20241205T180000
DTEND;TZID=America/Chicago:20241205T190000
DTSTAMP:20260419T164646
CREATED:20240724T175111Z
LAST-MODIFIED:20240724T175111Z
UID:6710-1733421600-1733425200@www.ibewlocal145.com
SUMMARY:Regular Union Meeting
DESCRIPTION:Regular Union Meeting
URL:https://www.ibewlocal145.com/event/regular-union-meeting-5/
LOCATION:IBEW Local #145 Union Hall\, 1700 52nd Ave Ste A\, Moline\, IL\, 61265\, United States
END:VEVENT
BEGIN:VEVENT
DTSTART;TZID=America/Chicago:20241203T170000
DTEND;TZID=America/Chicago:20241203T180000
DTSTAMP:20260419T164646
CREATED:20241203T134624Z
LAST-MODIFIED:20241203T134738Z
UID:7501-1733245200-1733248800@www.ibewlocal145.com
SUMMARY:Outside Contract Vote Special Meeting
DESCRIPTION:This meeting is for Outside members of Local #145 to discuss and vote for their recently negotiated contract. A current dues receipt must be presented to attend and vote.
URL:https://www.ibewlocal145.com/event/outside-contract-vote-special-meeting/
LOCATION:IBEW Local #145 Union Hall\, 1700 52nd Ave Ste A\, Moline\, IL\, 61265\, United States
END:VEVENT
BEGIN:VEVENT
DTSTART;TZID=America/Chicago:20241123T083000
DTEND;TZID=America/Chicago:20241123T113000
DTSTAMP:20260419T164646
CREATED:20241101T201604Z
LAST-MODIFIED:20241107T141232Z
UID:7322-1732350600-1732361400@www.ibewlocal145.com
SUMMARY:Festival of Trees Parade
DESCRIPTION:Come be apart of the Quad City Arts’ Festival of Trees parade! Staging area is located near the bridge on East 2nd and 3rd Street in Davenport IA. Please plan to arrive for line up around 8:30am since the parade kick’s off at 10am. Hope to see you all there!
URL:https://www.ibewlocal145.com/event/festival-of-trees-parade/
LOCATION:IL
END:VEVENT
BEGIN:VEVENT
DTSTART;TZID=America/Chicago:20241119T110000
DTEND;TZID=America/Chicago:20241119T130000
DTSTAMP:20260419T164646
CREATED:20241002T155833Z
LAST-MODIFIED:20241002T155833Z
UID:7147-1732014000-1732021200@www.ibewlocal145.com
SUMMARY:Retiree Social
DESCRIPTION:All Retirees welcome to come play cards or sit and visit every 3rd Tuesday at 11am at the Union Hall!
URL:https://www.ibewlocal145.com/event/retiree-social-2/
LOCATION:IL
END:VEVENT
BEGIN:VEVENT
DTSTART;TZID=America/Chicago:20241118T180000
DTEND;TZID=America/Chicago:20241118T190000
DTSTAMP:20260419T164646
CREATED:20240724T175712Z
LAST-MODIFIED:20241015T133139Z
UID:6718-1731952800-1731956400@www.ibewlocal145.com
SUMMARY:Clinton Unit II Meeting
DESCRIPTION:Clinton Unit II Meeting
URL:https://www.ibewlocal145.com/event/clinton-unit-ii-meeting-4/
LOCATION:Amvets Club\, 1317 S 17th St\, Clinton\, IA\, 52732\, United States
END:VEVENT
BEGIN:VEVENT
DTSTART;TZID=America/Chicago:20241107T180000
DTEND;TZID=America/Chicago:20241107T190000
DTSTAMP:20260419T164646
CREATED:20240724T175039Z
LAST-MODIFIED:20240724T175039Z
UID:6708-1731002400-1731006000@www.ibewlocal145.com
SUMMARY:Regular Union Meeting
DESCRIPTION:Regular Union Meeting
URL:https://www.ibewlocal145.com/event/regular-union-meeting-4/
LOCATION:IBEW Local #145 Union Hall\, 1700 52nd Ave Ste A\, Moline\, IL\, 61265\, United States
END:VEVENT
END:VCALENDAR