BEGIN:VCALENDAR
VERSION:2.0
PRODID:-//IBEW Local 145 - ECPv6.15.20//NONSGML v1.0//EN
CALSCALE:GREGORIAN
METHOD:PUBLISH
X-WR-CALNAME:IBEW Local 145
X-ORIGINAL-URL:https://www.ibewlocal145.com
X-WR-CALDESC:Events for IBEW Local 145
REFRESH-INTERVAL;VALUE=DURATION:PT1H
X-Robots-Tag:noindex
X-PUBLISHED-TTL:PT1H
BEGIN:VTIMEZONE
TZID:America/Chicago
BEGIN:DAYLIGHT
TZOFFSETFROM:-0600
TZOFFSETTO:-0500
TZNAME:CDT
DTSTART:20240310T080000
END:DAYLIGHT
BEGIN:STANDARD
TZOFFSETFROM:-0500
TZOFFSETTO:-0600
TZNAME:CST
DTSTART:20241103T070000
END:STANDARD
BEGIN:DAYLIGHT
TZOFFSETFROM:-0600
TZOFFSETTO:-0500
TZNAME:CDT
DTSTART:20250309T080000
END:DAYLIGHT
BEGIN:STANDARD
TZOFFSETFROM:-0500
TZOFFSETTO:-0600
TZNAME:CST
DTSTART:20251102T070000
END:STANDARD
BEGIN:DAYLIGHT
TZOFFSETFROM:-0600
TZOFFSETTO:-0500
TZNAME:CDT
DTSTART:20260308T080000
END:DAYLIGHT
BEGIN:STANDARD
TZOFFSETFROM:-0500
TZOFFSETTO:-0600
TZNAME:CST
DTSTART:20261101T070000
END:STANDARD
BEGIN:DAYLIGHT
TZOFFSETFROM:-0600
TZOFFSETTO:-0500
TZNAME:CDT
DTSTART:20270314T080000
END:DAYLIGHT
BEGIN:STANDARD
TZOFFSETFROM:-0500
TZOFFSETTO:-0600
TZNAME:CST
DTSTART:20271107T070000
END:STANDARD
END:VTIMEZONE
BEGIN:VEVENT
DTSTART;TZID=America/Chicago:20261001T180000
DTEND;TZID=America/Chicago:20261001T190000
DTSTAMP:20260419T232524
CREATED:20251113T171752Z
LAST-MODIFIED:20251113T171752Z
UID:9140-1790877600-1790881200@www.ibewlocal145.com
SUMMARY:Regular Union Meeting
DESCRIPTION:Regular Union Meeting
URL:https://www.ibewlocal145.com/event/regular-union-meeting-27/
LOCATION:IBEW Local #145 Union Hall\, 1700 52nd Ave Ste A\, Moline\, IL\, 61265\, United States
END:VEVENT
BEGIN:VEVENT
DTSTART;VALUE=DATE:20261001
DTEND;VALUE=DATE:20261002
DTSTAMP:20260419T232524
CREATED:20251020T163929Z
LAST-MODIFIED:20251020T163929Z
UID:8940-1790812800-1790899199@www.ibewlocal145.com
SUMMARY:4th Quarter Union Dues are Due!!!!! $145.50
DESCRIPTION:4th Quarter Union Dues are Due!!!!! Pay online under Member Login or call (309) 736-4239 to make your payment and avoid a late fee!!!
URL:https://www.ibewlocal145.com/event/4th-quarter-union-dues-are-due-145-50-2/
END:VEVENT
BEGIN:VEVENT
DTSTART;TZID=America/Chicago:20260914T180000
DTEND;TZID=America/Chicago:20260914T190000
DTSTAMP:20260419T232524
CREATED:20251113T172825Z
LAST-MODIFIED:20251113T172825Z
UID:9162-1789408800-1789412400@www.ibewlocal145.com
SUMMARY:Clinton Unit II Meeting
DESCRIPTION:Clinton Unit II Meeting
URL:https://www.ibewlocal145.com/event/clinton-unit-ii-meeting-26/
LOCATION:Amvets Club\, 1317 S 17th St\, Clinton\, IA\, 52732\, United States
END:VEVENT
BEGIN:VEVENT
DTSTART;TZID=America/Chicago:20260903T180000
DTEND;TZID=America/Chicago:20260903T190000
DTSTAMP:20260419T232524
CREATED:20251113T171554Z
LAST-MODIFIED:20251113T171554Z
UID:9136-1788458400-1788462000@www.ibewlocal145.com
SUMMARY:Regular Union Meeting
DESCRIPTION:Regular Union Meeting
URL:https://www.ibewlocal145.com/event/regular-union-meeting-25/
LOCATION:IBEW Local #145 Union Hall\, 1700 52nd Ave Ste A\, Moline\, IL\, 61265\, United States
END:VEVENT
BEGIN:VEVENT
DTSTART;TZID=America/Chicago:20260810T180000
DTEND;TZID=America/Chicago:20260810T190000
DTSTAMP:20260419T232524
CREATED:20251113T172744Z
LAST-MODIFIED:20251113T172744Z
UID:9160-1786384800-1786388400@www.ibewlocal145.com
SUMMARY:Clinton Unit II Meeting
DESCRIPTION:Clinton Unit II Meeting
URL:https://www.ibewlocal145.com/event/clinton-unit-ii-meeting-25/
LOCATION:Amvets Club\, 1317 S 17th St\, Clinton\, IA\, 52732\, United States
END:VEVENT
BEGIN:VEVENT
DTSTART;TZID=America/Chicago:20260806T180000
DTEND;TZID=America/Chicago:20260806T190000
DTSTAMP:20260419T232524
CREATED:20251113T171419Z
LAST-MODIFIED:20251113T171458Z
UID:9134-1786039200-1786042800@www.ibewlocal145.com
SUMMARY:Regular Union Meeting
DESCRIPTION:Regular Union Meeting
URL:https://www.ibewlocal145.com/event/regular-union-meeting-24/
LOCATION:IBEW Local #145 Union Hall\, 1700 52nd Ave Ste A\, Moline\, IL\, 61265\, United States
END:VEVENT
BEGIN:VEVENT
DTSTART;TZID=America/Chicago:20260713T180000
DTEND;TZID=America/Chicago:20260713T190000
DTSTAMP:20260419T232524
CREATED:20251113T172703Z
LAST-MODIFIED:20251113T172703Z
UID:9158-1783965600-1783969200@www.ibewlocal145.com
SUMMARY:Clinton Unit II Meeting
DESCRIPTION:Clinton Unit II Meeting
URL:https://www.ibewlocal145.com/event/clinton-unit-ii-meeting-24/
LOCATION:Amvets Club\, 1317 S 17th St\, Clinton\, IA\, 52732\, United States
END:VEVENT
BEGIN:VEVENT
DTSTART;TZID=America/Chicago:20260702T180000
DTEND;TZID=America/Chicago:20260702T190000
DTSTAMP:20260419T232524
CREATED:20251113T172052Z
LAST-MODIFIED:20251113T172052Z
UID:9144-1783015200-1783018800@www.ibewlocal145.com
SUMMARY:Regular Union Meeting
DESCRIPTION:Regular Union Meeting
URL:https://www.ibewlocal145.com/event/regular-union-meeting-29/
LOCATION:IBEW Local #145 Union Hall\, 1700 52nd Ave Ste A\, Moline\, IL\, 61265\, United States
END:VEVENT
BEGIN:VEVENT
DTSTART;VALUE=DATE:20260701
DTEND;VALUE=DATE:20260702
DTSTAMP:20260419T232524
CREATED:20251020T163842Z
LAST-MODIFIED:20251020T163842Z
UID:8938-1782864000-1782950399@www.ibewlocal145.com
SUMMARY:3rd Quarter Union Dues are Due!!!!! $145.50
DESCRIPTION:3rd Quarter Union Dues are Due!!!!! Pay online under Member Login or call (309) 736-4239 to make your payment and avoid a late fee!!!
URL:https://www.ibewlocal145.com/event/3rd-quarter-union-dues-are-due-145-50-2/
END:VEVENT
BEGIN:VEVENT
DTSTART;TZID=America/Chicago:20260608T180000
DTEND;TZID=America/Chicago:20260608T190000
DTSTAMP:20260419T232524
CREATED:20251113T172621Z
LAST-MODIFIED:20251113T172621Z
UID:9156-1780941600-1780945200@www.ibewlocal145.com
SUMMARY:Clinton Unit II Meeting
DESCRIPTION:Clinton Unit II Meeting
URL:https://www.ibewlocal145.com/event/clinton-unit-ii-meeting-23/
LOCATION:Amvets Club\, 1317 S 17th St\, Clinton\, IA\, 52732\, United States
END:VEVENT
BEGIN:VEVENT
DTSTART;TZID=America/Chicago:20260604T180000
DTEND;TZID=America/Chicago:20260604T190000
DTSTAMP:20260419T232524
CREATED:20251113T171310Z
LAST-MODIFIED:20251113T171310Z
UID:9132-1780596000-1780599600@www.ibewlocal145.com
SUMMARY:Regular Union Meeting
DESCRIPTION:Regular Union Meeting
URL:https://www.ibewlocal145.com/event/regular-union-meeting-23/
LOCATION:IBEW Local #145 Union Hall\, 1700 52nd Ave Ste A\, Moline\, IL\, 61265\, United States
END:VEVENT
BEGIN:VEVENT
DTSTART;TZID=America/Chicago:20260511T180000
DTEND;TZID=America/Chicago:20260511T190000
DTSTAMP:20260419T232524
CREATED:20251113T172542Z
LAST-MODIFIED:20251113T172542Z
UID:9154-1778522400-1778526000@www.ibewlocal145.com
SUMMARY:Clinton Unit II Meeting
DESCRIPTION:Clinton Unit II Meeting
URL:https://www.ibewlocal145.com/event/clinton-unit-ii-meeting-22/
LOCATION:Amvets Club\, 1317 S 17th St\, Clinton\, IA\, 52732\, United States
END:VEVENT
BEGIN:VEVENT
DTSTART;TZID=America/Chicago:20260507T180000
DTEND;TZID=America/Chicago:20260507T190000
DTSTAMP:20260419T232524
CREATED:20251113T171234Z
LAST-MODIFIED:20251113T171234Z
UID:9130-1778176800-1778180400@www.ibewlocal145.com
SUMMARY:Regular Union Meeting
DESCRIPTION:Regular Union Meeting
URL:https://www.ibewlocal145.com/event/regular-union-meeting-22/
LOCATION:IBEW Local #145 Union Hall\, 1700 52nd Ave Ste A\, Moline\, IL\, 61265\, United States
END:VEVENT
BEGIN:VEVENT
DTSTART;TZID=America/Chicago:20260413T180000
DTEND;TZID=America/Chicago:20260413T190000
DTSTAMP:20260419T232524
CREATED:20251113T172503Z
LAST-MODIFIED:20251113T172503Z
UID:9152-1776103200-1776106800@www.ibewlocal145.com
SUMMARY:Clinton Unit II Meeting
DESCRIPTION:Clinton Unit II Meeting
URL:https://www.ibewlocal145.com/event/clinton-unit-ii-meeting-21/
LOCATION:Amvets Club\, 1317 S 17th St\, Clinton\, IA\, 52732\, United States
END:VEVENT
BEGIN:VEVENT
DTSTART;TZID=America/Chicago:20260402T180000
DTEND;TZID=America/Chicago:20260402T190000
DTSTAMP:20260419T232524
CREATED:20251113T171151Z
LAST-MODIFIED:20251113T171151Z
UID:9128-1775152800-1775156400@www.ibewlocal145.com
SUMMARY:Regular Union Meeting
DESCRIPTION:Regular Union Meeting
URL:https://www.ibewlocal145.com/event/regular-union-meeting-21/
LOCATION:IBEW Local #145 Union Hall\, 1700 52nd Ave Ste A\, Moline\, IL\, 61265\, United States
END:VEVENT
BEGIN:VEVENT
DTSTART;VALUE=DATE:20260401
DTEND;VALUE=DATE:20260402
DTSTAMP:20260419T232524
CREATED:20251020T163703Z
LAST-MODIFIED:20251020T163752Z
UID:8936-1775001600-1775087999@www.ibewlocal145.com
SUMMARY:2nd Quarter Union Dues are Due!!!!! $145.50
DESCRIPTION:2nd Quarter Union Dues are Due!!!!! Pay online under Member Login or call (309) 736-4239 to make your payment and avoid a late fee!!!
URL:https://www.ibewlocal145.com/event/2nd-quarter-union-dues-are-due-145-50/
END:VEVENT
BEGIN:VEVENT
DTSTART;TZID=America/Chicago:20260309T180000
DTEND;TZID=America/Chicago:20260309T190000
DTSTAMP:20260419T232524
CREATED:20251113T172420Z
LAST-MODIFIED:20251113T172420Z
UID:9150-1773079200-1773082800@www.ibewlocal145.com
SUMMARY:Clinton Unit II Meeting
DESCRIPTION:Clinton Unit II Meeting
URL:https://www.ibewlocal145.com/event/clinton-unit-ii-meeting-20/
LOCATION:Amvets Club\, 1317 S 17th St\, Clinton\, IA\, 52732\, United States
END:VEVENT
BEGIN:VEVENT
DTSTART;TZID=America/Chicago:20260305T180000
DTEND;TZID=America/Chicago:20260305T190000
DTSTAMP:20260419T232524
CREATED:20251113T171106Z
LAST-MODIFIED:20251113T171106Z
UID:9126-1772733600-1772737200@www.ibewlocal145.com
SUMMARY:Regular Union Meeting
DESCRIPTION:Regular Union Meeting
URL:https://www.ibewlocal145.com/event/regular-union-meeting-20/
LOCATION:IBEW Local #145 Union Hall\, 1700 52nd Ave Ste A\, Moline\, IL\, 61265\, United States
END:VEVENT
BEGIN:VEVENT
DTSTART;TZID=America/Chicago:20260209T180000
DTEND;TZID=America/Chicago:20260209T190000
DTSTAMP:20260419T232524
CREATED:20251113T172318Z
LAST-MODIFIED:20251113T172318Z
UID:9148-1770660000-1770663600@www.ibewlocal145.com
SUMMARY:Clinton Unit II Meeting
DESCRIPTION:Clinton Unit II Meeting
URL:https://www.ibewlocal145.com/event/clinton-unit-ii-meeting-19/
LOCATION:Amvets Club\, 1317 S 17th St\, Clinton\, IA\, 52732\, United States
END:VEVENT
BEGIN:VEVENT
DTSTART;TZID=America/Chicago:20260205T180000
DTEND;TZID=America/Chicago:20260205T190000
DTSTAMP:20260419T232524
CREATED:20251113T171033Z
LAST-MODIFIED:20251113T171033Z
UID:9124-1770314400-1770318000@www.ibewlocal145.com
SUMMARY:Regular Union Meeting
DESCRIPTION:Regular Union Meeting
URL:https://www.ibewlocal145.com/event/regular-union-meeting-19/
LOCATION:IBEW Local #145 Union Hall\, 1700 52nd Ave Ste A\, Moline\, IL\, 61265\, United States
END:VEVENT
BEGIN:VEVENT
DTSTART;TZID=America/Chicago:20260112T180000
DTEND;TZID=America/Chicago:20260112T190000
DTSTAMP:20260419T232524
CREATED:20251113T172235Z
LAST-MODIFIED:20251113T172235Z
UID:9146-1768240800-1768244400@www.ibewlocal145.com
SUMMARY:Clinton Unit II Meeting
DESCRIPTION:Clinton Unit II Meeting
URL:https://www.ibewlocal145.com/event/clinton-unit-ii-meeting-15/
LOCATION:Amvets Club\, 1317 S 17th St\, Clinton\, IA\, 52732\, United States
END:VEVENT
BEGIN:VEVENT
DTSTART;TZID=America/Chicago:20260108T180000
DTEND;TZID=America/Chicago:20260108T190000
DTSTAMP:20260419T232524
CREATED:20251113T170945Z
LAST-MODIFIED:20251113T170945Z
UID:9122-1767895200-1767898800@www.ibewlocal145.com
SUMMARY:Regular Union Meeting
DESCRIPTION:Regular Union Meeting
URL:https://www.ibewlocal145.com/event/regular-union-meeting-18/
LOCATION:IBEW Local #145 Union Hall\, 1700 52nd Ave Ste A\, Moline\, IL\, 61265\, United States
END:VEVENT
BEGIN:VEVENT
DTSTART;VALUE=DATE:20260101
DTEND;VALUE=DATE:20260102
DTSTAMP:20260419T232524
CREATED:20251113T170034Z
LAST-MODIFIED:20251113T170034Z
UID:9117-1767225600-1767311999@www.ibewlocal145.com
SUMMARY:Union Hall Office Closed!!
DESCRIPTION:In observance of New Years\, the office will be closed. Have a safe and happy New Year!!
URL:https://www.ibewlocal145.com/event/union-hall-office-closed-3/
LOCATION:IBEW Local #145 Union Hall\, 1700 52nd Ave Ste A\, Moline\, IL\, 61265\, United States
END:VEVENT
BEGIN:VEVENT
DTSTART;VALUE=DATE:20260101
DTEND;VALUE=DATE:20260102
DTSTAMP:20260419T232524
CREATED:20251020T163545Z
LAST-MODIFIED:20251020T163545Z
UID:8934-1767225600-1767311999@www.ibewlocal145.com
SUMMARY:1st Quarter Union Dues are Due!!!!! $145.50
DESCRIPTION:1st Quarter Union Dues are Due!!!!! Pay online under Member Login or call (309) 736-4239 to make your payment and avoid a late fee!!!
URL:https://www.ibewlocal145.com/event/1st-quarter-union-dues-are-due-145-50/
END:VEVENT
BEGIN:VEVENT
DTSTART;VALUE=DATE:20251231
DTEND;VALUE=DATE:20260101
DTSTAMP:20260419T232524
CREATED:20251113T165926Z
LAST-MODIFIED:20251113T170239Z
UID:9115-1767139200-1767225599@www.ibewlocal145.com
SUMMARY:Union Hall Office Closes at Noon!!
DESCRIPTION:In observance of New Years\, the office will close at noon. Have a safe and happy New Year!!
URL:https://www.ibewlocal145.com/event/union-hall-office-closes-at-noon-3/
LOCATION:IBEW Local #145 Union Hall\, 1700 52nd Ave Ste A\, Moline\, IL\, 61265\, United States
END:VEVENT
BEGIN:VEVENT
DTSTART;VALUE=DATE:20251225
DTEND;VALUE=DATE:20251226
DTSTAMP:20260419T232524
CREATED:20251113T165730Z
LAST-MODIFIED:20251113T165730Z
UID:9113-1766620800-1766707199@www.ibewlocal145.com
SUMMARY:Union Hall Office Closed!!
DESCRIPTION:In observance of Christmas\, the office will be closed. Merry Christmas!!
URL:https://www.ibewlocal145.com/event/union-hall-office-closed-2/
LOCATION:IBEW Local #145 Union Hall\, 1700 52nd Ave Ste A\, Moline\, IL\, 61265\, United States
END:VEVENT
BEGIN:VEVENT
DTSTART;VALUE=DATE:20251224
DTEND;VALUE=DATE:20251225
DTSTAMP:20260419T232524
CREATED:20251113T165220Z
LAST-MODIFIED:20251113T165220Z
UID:9111-1766534400-1766620799@www.ibewlocal145.com
SUMMARY:Union Hall Office Closes at Noon!!
DESCRIPTION:In observance of Christmas\, the office will close at noon. Merry Christmas!!
URL:https://www.ibewlocal145.com/event/union-hall-office-closes-at-noon-2/
LOCATION:IBEW Local #145 Union Hall\, 1700 52nd Ave Ste A\, Moline\, IL\, 61265\, United States
END:VEVENT
BEGIN:VEVENT
DTSTART;TZID=America/Chicago:20251213T080000
DTEND;TZID=America/Chicago:20251213T110000
DTSTAMP:20260419T232524
CREATED:20251113T153235Z
LAST-MODIFIED:20251113T153235Z
UID:9088-1765612800-1765623600@www.ibewlocal145.com
SUMMARY:Breakfast with Santa
DESCRIPTION:Please join us on December 13th for Breakfast with Santa! RSVP by clicking on the link below! \nhttps://form.jotform.com/232955817021153
URL:https://www.ibewlocal145.com/event/breakfast-with-santa-2/
LOCATION:IBEW Local #145 Union Hall\, 1700 52nd Ave Ste A\, Moline\, IL\, 61265\, United States
END:VEVENT
BEGIN:VEVENT
DTSTART;TZID=America/Chicago:20251208T180000
DTEND;TZID=America/Chicago:20251208T190000
DTSTAMP:20260419T232524
CREATED:20241202T201922Z
LAST-MODIFIED:20241202T201922Z
UID:7492-1765216800-1765220400@www.ibewlocal145.com
SUMMARY:Clinton Unit II Meeting
DESCRIPTION:Clinton Unit II Meeting
URL:https://www.ibewlocal145.com/event/clinton-unit-ii-meeting-18/
LOCATION:Amvets Club\, 1317 S 17th St\, Clinton\, IA\, 52732\, United States
END:VEVENT
BEGIN:VEVENT
DTSTART;TZID=America/Chicago:20251205T113000
DTEND;TZID=America/Chicago:20251205T140000
DTSTAMP:20260419T232524
CREATED:20251113T160617Z
LAST-MODIFIED:20251113T165343Z
UID:9101-1764934200-1764943200@www.ibewlocal145.com
SUMMARY:Retiree Holiday Luncheon
DESCRIPTION:All Retirees and a guest are invited! Please call the Union Hall at (309) 736-4239 to RSVP.
URL:https://www.ibewlocal145.com/event/retiree-holiday-luncheon/
LOCATION:IBEW Local #145 Union Hall\, 1700 52nd Ave Ste A\, Moline\, IL\, 61265\, United States
END:VEVENT
END:VCALENDAR